BEGIN:VCALENDAR
VERSION:2.0
PRODID:-//Kommunale Koordinierungsstelle Rhein-Erft-Kreis - ECPv6.15.20//NONSGML v1.0//EN
CALSCALE:GREGORIAN
METHOD:PUBLISH
X-WR-CALNAME:Kommunale Koordinierungsstelle Rhein-Erft-Kreis
X-ORIGINAL-URL:https://berufsorientierung-rek.de
X-WR-CALDESC:Veranstaltungen für Kommunale Koordinierungsstelle Rhein-Erft-Kreis
REFRESH-INTERVAL;VALUE=DURATION:PT1H
X-Robots-Tag:noindex
X-PUBLISHED-TTL:PT1H
BEGIN:VTIMEZONE
TZID:Europe/Berlin
BEGIN:DAYLIGHT
TZOFFSETFROM:+0100
TZOFFSETTO:+0200
TZNAME:CEST
DTSTART:20250330T010000
END:DAYLIGHT
BEGIN:STANDARD
TZOFFSETFROM:+0200
TZOFFSETTO:+0100
TZNAME:CET
DTSTART:20251026T010000
END:STANDARD
BEGIN:DAYLIGHT
TZOFFSETFROM:+0100
TZOFFSETTO:+0200
TZNAME:CEST
DTSTART:20260329T010000
END:DAYLIGHT
BEGIN:STANDARD
TZOFFSETFROM:+0200
TZOFFSETTO:+0100
TZNAME:CET
DTSTART:20261025T010000
END:STANDARD
BEGIN:DAYLIGHT
TZOFFSETFROM:+0100
TZOFFSETTO:+0200
TZNAME:CEST
DTSTART:20270328T010000
END:DAYLIGHT
BEGIN:STANDARD
TZOFFSETFROM:+0200
TZOFFSETTO:+0100
TZNAME:CET
DTSTART:20271031T010000
END:STANDARD
END:VTIMEZONE
BEGIN:VEVENT
DTSTART;TZID=Europe/Berlin:20260805T090000
DTEND;TZID=Europe/Berlin:20260805T150000
DTSTAMP:20260423T123450
CREATED:20260211T125505Z
LAST-MODIFIED:20260211T131904Z
UID:3948-1785920400-1785942000@berufsorientierung-rek.de
SUMMARY:BA Bergheim_Offene Sprechzeiten der Berufsberatung in den Ferien
DESCRIPTION:Ob Ausbildung\, weiterführende Schule\, FSJ\, Praktikum oder andere Überbrückungsmöglichkeiten – die Berufsberatung unterstützt Jugendliche und junge Erwachsene bei der Suche nach dem passenden Anschluss. Eine Teilnahme ist ohne Termin möglich\, Eltern können gerne begleiten. Erfahrene Berufsberatungsfachkräfte beraten zu Themen wie Berufswahl\, Ausbildung\, Studium\, Alternativen zur Ausbildung sowie zum Bewerbungsprozess. Individuelle Termine außerhalb der offenen Sprechzeiten können ebenfalls vereinbart werden. \nWo?\nAgentur für Arbeit Bergheim\nKölner Straße 16\n50126 Bergheim \nWann?\nMittwochs\, in den Oster- und Sommerferien
URL:https://berufsorientierung-rek.de/termin/offene-sprechzeiten-der-berufsberatung-in-den-ferien-6/
CATEGORIES:Ferien
ATTACH;FMTTYPE=image/png:https://berufsorientierung-rek.de/wp-content/uploads/BA_allgemein.png
END:VEVENT
END:VCALENDAR